BEGIN:VCALENDAR
VERSION:2.0
PRODID:-//Industrial Workers of the World (IWW) in the German Language Area - ECPv6.15.15//NONSGML v1.0//EN
CALSCALE:GREGORIAN
METHOD:PUBLISH
X-ORIGINAL-URL:https://www.wobblies.org/en
X-WR-CALDESC:Events for Industrial Workers of the World (IWW) in the German Language Area
REFRESH-INTERVAL;VALUE=DURATION:PT1H
X-Robots-Tag:noindex
X-PUBLISHED-TTL:PT1H
BEGIN:VTIMEZONE
TZID:Europe/Berlin
BEGIN:DAYLIGHT
TZOFFSETFROM:+0100
TZOFFSETTO:+0200
TZNAME:CEST
DTSTART:20250330T010000
END:DAYLIGHT
BEGIN:STANDARD
TZOFFSETFROM:+0200
TZOFFSETTO:+0100
TZNAME:CET
DTSTART:20251026T010000
END:STANDARD
BEGIN:DAYLIGHT
TZOFFSETFROM:+0100
TZOFFSETTO:+0200
TZNAME:CEST
DTSTART:20260329T010000
END:DAYLIGHT
BEGIN:STANDARD
TZOFFSETFROM:+0200
TZOFFSETTO:+0100
TZNAME:CET
DTSTART:20261025T010000
END:STANDARD
BEGIN:DAYLIGHT
TZOFFSETFROM:+0100
TZOFFSETTO:+0200
TZNAME:CEST
DTSTART:20270328T010000
END:DAYLIGHT
BEGIN:STANDARD
TZOFFSETFROM:+0200
TZOFFSETTO:+0100
TZNAME:CET
DTSTART:20271031T010000
END:STANDARD
END:VTIMEZONE
BEGIN:VEVENT
DTSTART;TZID=Europe/Berlin:20260816T130000
DTEND;TZID=Europe/Berlin:20260816T160000
DTSTAMP:20260424T225532
CREATED:20260118T131229Z
LAST-MODIFIED:20260118T131826Z
UID:26258-1786885200-1786896000@www.wobblies.org
SUMMARY:[:de]IWW Leipzig: Organizing Treffen[:en]IWW Leipzig: Organizing Meeting[:]
DESCRIPTION:The GMB Leipzig meets up for its organizing meeting every third Sunday of the month. If you would like to get to know us\, please contact us at leipzig@wobblies.org!
URL:https://www.wobblies.org/en/calendar/iww-leipzig-organizing-treffen-7/
LOCATION:Helmut\, Kohlgartenstraße 51\, Leipzig
CATEGORIES:
END:VEVENT
END:VCALENDAR