BEGIN:VCALENDAR
VERSION:2.0
PRODID:-//Industrial Workers of the World (IWW) im deutschsprachigen Raum - ECPv6.15.15//NONSGML v1.0//EN
CALSCALE:GREGORIAN
METHOD:PUBLISH
X-ORIGINAL-URL:https://www.wobblies.org
X-WR-CALDESC:Veranstaltungen für Industrial Workers of the World (IWW) im deutschsprachigen Raum
REFRESH-INTERVAL;VALUE=DURATION:PT1H
X-Robots-Tag:noindex
X-PUBLISHED-TTL:PT1H
BEGIN:VTIMEZONE
TZID:Europe/Berlin
BEGIN:DAYLIGHT
TZOFFSETFROM:+0100
TZOFFSETTO:+0200
TZNAME:CEST
DTSTART:20250330T010000
END:DAYLIGHT
BEGIN:STANDARD
TZOFFSETFROM:+0200
TZOFFSETTO:+0100
TZNAME:CET
DTSTART:20251026T010000
END:STANDARD
BEGIN:DAYLIGHT
TZOFFSETFROM:+0100
TZOFFSETTO:+0200
TZNAME:CEST
DTSTART:20260329T010000
END:DAYLIGHT
BEGIN:STANDARD
TZOFFSETFROM:+0200
TZOFFSETTO:+0100
TZNAME:CET
DTSTART:20261025T010000
END:STANDARD
BEGIN:DAYLIGHT
TZOFFSETFROM:+0100
TZOFFSETTO:+0200
TZNAME:CEST
DTSTART:20270328T010000
END:DAYLIGHT
BEGIN:STANDARD
TZOFFSETFROM:+0200
TZOFFSETTO:+0100
TZNAME:CET
DTSTART:20271031T010000
END:STANDARD
END:VTIMEZONE
BEGIN:VEVENT
DTSTART;TZID=Europe/Berlin:20260303T180000
DTEND;TZID=Europe/Berlin:20260303T200000
DTSTAMP:20260424T162939
CREATED:20260205T080604Z
LAST-MODIFIED:20260205T080604Z
UID:26288-1772560800-1772568000@www.wobblies.org
SUMMARY:[:de]IWW Wien: Offenes Organizing Treffen[:]
DESCRIPTION:Wir laden euch herzlich zum offenen Organizing Treffen der IWW in Wien ein. Kommt vorbei\, wenn ihr Lust habt\, über die Organisierung in unseren Betrieben zu sprechen und Erfahrungen auszutauschen.\n\nWie geht es uns in der Arbeit? Wie kommen wir darüber mit Kolleg*innen ins Gespräch? Wie können wir uns mit ihnen gemeinsam organisieren\, um unsere Situation zu verbessern? Wie können wir eine Betriebsgruppe aufbauen? Welche Methoden funktionieren in unseren Betrieben und welche nicht? Was können wir aus Fehlern lernen und in Zukunft besser machen?\nAuf diese und viele andere Fragen versuchen wir\, im lockeren Rahmen gemeinsam Antworten zu finden.\n\nDas offene Organizing Treffen findet jeden ersten Dienstag im Monat ab 18 Uhr statt und ist offen für alle Interessierten\, egal ob IWW-Mitglied oder nicht.
URL:https://www.wobblies.org/calendar/iww-wien-offenes-organizing-treffen/
LOCATION:VolxClub Ottakring\, Familienplatz 6\, Wien\, 1160\, Austria
CATEGORIES:Treffen
ORGANIZER;CN="IWW Wien":MAILTO:wien@wobblies.org
END:VEVENT
BEGIN:VEVENT
DTSTART;TZID=Europe/Berlin:20260304T200000
DTEND;TZID=Europe/Berlin:20260304T213000
DTSTAMP:20260424T162939
CREATED:20260118T132602Z
LAST-MODIFIED:20260118T132602Z
UID:26273-1772654400-1772659800@www.wobblies.org
SUMMARY:[:de]IWW Leipzig: Ortsgruppentreffen[:]
DESCRIPTION:Jeden ersten Mittwoch im Monat findet online unser Ortsgruppentreffen statt. Du möchtest uns gern kennenlernen\, dann melde dich gern via: leipzig@wobblies.org \nEvery first Wednesday of the month\, online. Would you like to get to know us? Then get in touch via email: leipzig@wobblies.org
URL:https://www.wobblies.org/calendar/iww-leipzig-ortsgruppentreffen-9/
CATEGORIES:Treffen
END:VEVENT
BEGIN:VEVENT
DTSTART;TZID=Europe/Berlin:20260322T130000
DTEND;TZID=Europe/Berlin:20260322T150000
DTSTAMP:20260424T162939
CREATED:20250719T211032Z
LAST-MODIFIED:20260118T130036Z
UID:26224-1774184400-1774191600@www.wobblies.org
SUMMARY:[:de]IWW Leipzig: Organizing Treffen[:en]IWW Leipzig: Organizing Meeting[:]
DESCRIPTION:Die Leipziger Ortsgruppe trifft sich zum Organizing Treffen an jedem 3. Sonntag im Monat. Möchtest Du uns kennenlernen\, melde dich via leipzig@wobblies.org!
URL:https://www.wobblies.org/calendar/iww-leipzig-ortsgruppentreffen-7/
LOCATION:Helmut\, Kohlgartenstraße 51\, Leipzig
CATEGORIES:Treffen
END:VEVENT
END:VCALENDAR