BEGIN:VCALENDAR
VERSION:2.0
PRODID:-//Industrial Workers of the World (IWW) im deutschsprachigen Raum - ECPv6.15.15//NONSGML v1.0//EN
CALSCALE:GREGORIAN
METHOD:PUBLISH
X-ORIGINAL-URL:https://www.wobblies.org
X-WR-CALDESC:Veranstaltungen für Industrial Workers of the World (IWW) im deutschsprachigen Raum
REFRESH-INTERVAL;VALUE=DURATION:PT1H
X-Robots-Tag:noindex
X-PUBLISHED-TTL:PT1H
BEGIN:VTIMEZONE
TZID:Europe/Berlin
BEGIN:DAYLIGHT
TZOFFSETFROM:+0100
TZOFFSETTO:+0200
TZNAME:CEST
DTSTART:20250330T010000
END:DAYLIGHT
BEGIN:STANDARD
TZOFFSETFROM:+0200
TZOFFSETTO:+0100
TZNAME:CET
DTSTART:20251026T010000
END:STANDARD
BEGIN:DAYLIGHT
TZOFFSETFROM:+0100
TZOFFSETTO:+0200
TZNAME:CEST
DTSTART:20260329T010000
END:DAYLIGHT
BEGIN:STANDARD
TZOFFSETFROM:+0200
TZOFFSETTO:+0100
TZNAME:CET
DTSTART:20261025T010000
END:STANDARD
BEGIN:DAYLIGHT
TZOFFSETFROM:+0100
TZOFFSETTO:+0200
TZNAME:CEST
DTSTART:20270328T010000
END:DAYLIGHT
BEGIN:STANDARD
TZOFFSETFROM:+0200
TZOFFSETTO:+0100
TZNAME:CET
DTSTART:20271031T010000
END:STANDARD
END:VTIMEZONE
BEGIN:VEVENT
DTSTART;TZID=Europe/Berlin:20260322T130000
DTEND;TZID=Europe/Berlin:20260322T150000
DTSTAMP:20260424T174938
CREATED:20250719T211032Z
LAST-MODIFIED:20260118T130036Z
UID:26224-1774184400-1774191600@www.wobblies.org
SUMMARY:[:de]IWW Leipzig: Organizing Treffen[:en]IWW Leipzig: Organizing Meeting[:]
DESCRIPTION:Die Leipziger Ortsgruppe trifft sich zum Organizing Treffen an jedem 3. Sonntag im Monat. Möchtest Du uns kennenlernen\, melde dich via leipzig@wobblies.org!
URL:https://www.wobblies.org/calendar/iww-leipzig-ortsgruppentreffen-7/
LOCATION:Helmut\, Kohlgartenstraße 51\, Leipzig
CATEGORIES:Treffen
END:VEVENT
END:VCALENDAR